Workbook

Sheet Folha de Rosto
B1: FOLHA DE ROSTO
B4: INFORMAÇÕES GERAIS PARA ESTUDO DE BENEFÍCIOS CORPORATIVOS | L4: Pré pagamento
L5: Pós pagamento
B6: Solicitante: | G6: Data da Solicitação: | H6: 42989 | K6: Selecionar
L7: Sim
B8: DADOS CADASTRAIS | L8: Não
B9: Razão Social:
B10: CNPJ: | G10: Ramo de Atividade: | L10: Operadora
B11: Município: | G11: Cliente Admix. Quais Benefícios? | L11: Empresa
L12: Plano Prêmium
H15: 7.2-01 FM CML Solicitação de Estudos Middle e Corporate 5.0 - Folha de Rosto
L16: Não possui

Sheet Saúde 
B1: BENEFÍCIO SAÚDE
B4: INFORMAÇÕES GERAIS PARA ESTUDO DE BENEFÍCIOS CORPORATIVOS | L4: Pré pagamento
L5: Pós pagamento
B6: Solicitante: | G6: Data da Solicitação: | H6: 42989 | K6: Selecionar
L7: Sim
B8: DADOS CADASTRAIS | L8: Não
B9: Razão Social:
B10: CNPJ: | G10: Ramo de Atividade: | L10: Operadora
B11: Município: | G11: Cliente Admix. Quais Benefícios? | L11: Empresa
L12: Não possui
B13: BENEFÍCIO SAÚDE - Situação Atual
B15: MOTIVO DE TRABALHO (Informação Indispensável) | L15: Selecionar
L16: Elegibilidade Compulsória
L17: Compulsório
B18: DADOS DA OPERADORA | L18: Adesão
B19: Operadora(s) Atual(ais) | C19: Elegibilidade da operadora | D19: Início de Vigência (Ano) | E19: Mês de Aniversário | F19: Prazo de Contrato | G19: Regime de Pagamento | H19: Limite Técnico | I19: Sinistralidade 6 meses / 12 meses | J19: Previsão de Reajuste | L19: Encampação
G20: Pré Pagamento | L20: Titular Compulsório e Dependente Adesão
G21: Selecionar
G22: Selecionar | L22: Selecionar
L23: Compulsório
B24: PLANOS | L24: Adesão
B25: Plano | C25: Vidas | D25: Prêmio | E25: Elegibilidade do Plano | F25: Contribuição do Colaborador | H25: Desenho da Coparticipação | I25: Franquia de internação | J25: Reembolso de Consultas | L25: Encampação
L26: Titular Compulsório e Dependente Adesão
L28: Selecionar
L29: Titular Compulsório e Dependente Adesão
L31: Selecionar
B33: COBERTURAS
B34: Plano Regulamentado à Lei 9.656/98 | D34: Não | E34: Cobertura para Transplantes? Caso positivo informar quais: | H34: Coparticipação revertida para: | J34: Selecionar
B35: Cobertura para Miopia. A partir de quantos graus? | E35: Possui Taxa de Administração? | H35: Informar eventuais taxas além do prêmio
B36: Remissão por Morte. Quantos anos? | E36: Condições Especiais do contrato:
B38: INFORMAÇÕES NECESSÁRIAS PARA ACEITAÇÃO
B40: Operadora Escolhida: | F40: Total de Vidas: | H40: 2 | I40: Valor da Fatura (Proposta): | N40: Total de Vidas: | T40: Valor da Fatura (Proposta):
B41: Elegibilidade: | D41: Selecionar | F41: Demitido/Aposentado? | H41: Selecionar
B42: Regime de Contratação Pretendido: | D42: Selecionar | F42: Home Care? | H42: Selecionar | N42: Política de Upgrade? | T42: Regime de Contribuição Pretendido:
B43: Benefício para Titular e Dependente? | D43: Selecionar | F43: Política de Up Grade? | H43: Selecionar
B44: Agregados? | D44: Selecionar | F44: Caso Sim, sinalizar a base de Dados: | Q44: Caso sim, Sinalizar a base de dados
B45: Possui Prestador de Serviço? | D45: Selecionar | F45: Se Sim, descrever quais Casos Crônicos separados por virgula:
B46: Caso Crônico em tratamento? | D46: Selecionar | F46: Quant.de Titular e/ ou Dependente com caso Crônico: | R46: Quant.de Titular e/ ou Dependente com caso Crônico
B48: INFORMAÇÕES DO PERFIL
B50: BENEFICIÁRIOS COM IDADE IGUAL OU MAIOR A 59 ANOS | H50: GESTANTES | O50: GESTANTES
...

Sheet Estratégia
B1: ESTRATÉGIA
B4: SAÚDE | C4: OPERADORA ATUAL | D4: OPERADORA A COTAR
B5: Operadora
B6: Plano
B7: Reembolso em Consulta
B8: Qtd. De Vidas
B9: Custo Unitário
B10: Plano
B11: Reembolso em Consulta
B12: Qtd. De Vidas
B13: Custo Unitário
B14: Plano
B15: Reembolso em Consulta
B16: Qtd. De Vidas
... B53: Custo Unitário
G57: 7.2-01 FM CML Solicitação de Estudos Middle e Corporate 5.0 - Estratégia

Sheet Faixa Etária
B1: FAIXA ETÁRIA
B4: Distribuição por Faixa Etária (GERAL)
B5: Faixa Etária | C5: Titulares | E5: Dependentes Legais | G5: Agregados | I5: Demitidos e Aposentados | K5: Total | L5: Distrib. %
C6: Masculino | D6: Feminino | E6: Masculino | F6: Feminino | G6: Masculino | H6: Feminino | I6: Masculino | J6: Feminino
B7: 00 - 18 anos | K7: =C7+D7+E7+F7+G7+H7+I7+J7 -> 0 | L7: =K7/$K$17 -> #DIV/0!
B8: 19 - 23 anos | K8: =C8+D8+E8+F8+G8+H8+I8+J8 -> 0 | L8: =K8/$K$17 -> #DIV/0!
B9: 24 - 28 anos | K9: =C9+D9+E9+F9+G9+H9+I9+J9 -> 0 | L9: =K9/$K$17 -> #DIV/0!
B10: 29 - 33 anos | K10: =C10+D10+E10+F10+G10+H10+I10+J10 -> 0 | L10: =K10/$K$17 -> #DIV/0!
B11: 34 - 38 anos | K11: =C11+D11+E11+F11+G11+H11+I11+J11 -> 0 | L11: =K11/$K$17 -> #DIV/0!
B12: 39 - 43 anos | K12: =C12+D12+E12+F12+G12+H12+I12+J12 -> 0 | L12: =K12/$K$17 -> #DIV/0!
B13: 44 - 48 anos | K13: =C13+D13+E13+F13+G13+H13+I13+J13 -> 0 | L13: =K13/$K$17 -> #DIV/0!
B14: 49 - 53 anos | K14: =C14+D14+E14+F14+G14+H14+I14+J14 -> 0 | L14: =K14/$K$17 -> #DIV/0!
B15: 54 - 58 anos | K15: =C15+D15+E15+F15+G15+H15+I15+J15 -> 0 | L15: =K15/$K$17 -> #DIV/0!
B16: 59 ou + | K16: =C16+D16+E16+F16+G16+H16+I16+J16 -> 0 | L16: =K16/$K$17 -> #DIV/0!
B17: Totais | C17: =SUM(C7:C16) -> 0 | D17: =SUM(D7:D16) -> 0 | E17: =SUM(E7:E16) -> 0 | F17: =SUM(F7:F16) -> 0 | G17: =SUM(G7:G16) -> 0 | H17: =SUM(H7:H16) -> 0 | I17: =SUM(I7:I16) -> 0 | J17: =SUM(J7:J16) -> 0 | ... L17: =SUM(L7:L16) -> #DIV/0!
B19: Percentual Agregados: | H19: =(G17+H17)/K17 -> #DIV/0!
B21: Distribuição por Faixa Etária (POR PLANO)
B22: Faixa Etária
B23: 00 - 18 anos
B24: 19 - 23 anos
B25: 24 - 28 anos
B26: 29 - 33 anos
B27: 34 - 38 anos
B28: 39 - 43 anos
B29: 44 - 48 anos
B30: 49 - 53 anos
B31: 54 - 58 anos
B32: 59 ou +
B33: Totais | C33: =SUM(C23:C32) -> 0 | D33: =SUM(D23:D32) -> 0 | E33: =SUM(E23:E32) -> 0 | F33: =SUM(F23:F32) -> 0 | G33: =SUM(G23:G32) -> 0 | H33: =SUM(H23:H32) -> 0 | I33: =SUM(I23:I32) -> 0 | J33: =SUM(J23:J32) -> 0 | ... L33: =SUM(L23:L32) -> 0
B35: Distribuição geográfica da população: (Cidade/Estado):
B36: Locais
B37: Vidas

Sheet Odonto
B1: ODONTOLÓGICO
B4: INFORMAÇÕES GERAIS PARA ESTUDO DE BENEFÍCIOS CORPORATIVOS | K4: Pré pagamento
K5: Pós pagamento
B6: Solicitante: | C6: ='Folha de Rosto'!C6 -> 0 | G6: Data da Solicitação: | H6: ='Folha de Rosto'!H6 -> 42989 | K6: Selecionar
K7: Sim
B8: DADOS CADASTRAIS | K8: Não
B9: Razão Social: | C9: ='Folha de Rosto'!C9 -> 0
B10: CNPJ: | C10: ='Folha de Rosto'!C10 -> 0 | F10: Ramo de Atividade: | G10: ='Folha de Rosto'!H10 -> 0 | K10: Operadora
B11: Município: | C11: ='Folha de Rosto'!C11 -> 0 | F11: Cliente Admix. Quais benefícios? | G11: ='Folha de Rosto'!H11 -> 0 | K11: Empresa
B12: BENEFÍCIO ODONTOLÓGICO - Situação Atual | K12: Não possui
B14: MOTIVO DO TRABALHO (Informação indispensável)
B15: FAVOR COTAR PARA TODAS AS VIDAS | K15: Selecionar
K16: Elegibilidade Compulsória
B17: Dados da Operadora | K17: Compulsório
B18: Operadora Atual | E18: Regime de Pagamento | F18: Mês de Aniversário | G18: Limite Técnico | H18: Sinistralidade 6 meses / 12 meses | I18: Previsão de Reajuste | K18: Adesão
K19: Encampação
K20: Titular Compulsório e Dependente Adesão
B21: DESENHO DO BENEFÍCIO
B22: Beneficio para Titulares e Dependentes | C22: Selecionar | E22: Possui Agregados, custeado por: | K22: Selecionar
B23: Beneficio Compulsório ou por Adesão | C23: Selecionar | E23: % de adesão sobre o grupo total: | K23: Pré Pagamento
B24: Possui prestadores de serviço | C24: Selecionar | E24: Possui afastados informar respectivos CID´s | K24: Pós Pagamento
B25: Possui aposentados ou pensionistas | C25: Selecionar | E25: Contrato contributário (descrever de acordo com o plano)
B26: Permite upgrade para quais planos?
K27: Selecionar
B28: CATEGORIA DE PLANOS | K28: Operadora
B29: Plano + Cobertura | C29: Vidas | D29: Prêmio | E29: Elegibilidade | F29: Contribuição Colaborador | G29: Desenho da Coparticipação | H29: Revertida | I29: Reembolso de Consulta | K29: Empresa
H30: Selecionar | K30: Não Possui
H31: Selecionar
H32: Selecionar
H33: Selecionar
H34: Selecionar
B35: Condições Especiais do contrato:
E41: 7.2-01 FM CML Solicitação de Estudos Middle e Corporate 5.0 - Odontológico

Sheet Vida
B1: VIDA
B4: INFORMAÇÕES GERAIS PARA ESTUDO DE BENEFÍCIOS CORPORATIVOS | K4: Pré pagamento
K5: Pós pagamento
B6: Solicitante: | C6: ='Folha de Rosto'!C6 -> 0 | G6: Data da Solicitação: | H6: ='Folha de Rosto'!H6 -> 42989 | K6: Selecionar
K7: Sim
B8: DADOS CADASTRAIS | K8: Não
B9: Razão Social: | C9: ='Folha de Rosto'!C9 -> 0
B10: CNPJ: | C10: ='Folha de Rosto'!C10 -> 0 | F10: Ramo de Atividade: | G10: ='Folha de Rosto'!H10 -> 0 | K10: Operadora
B11: Município: | C11: ='Folha de Rosto'!C11 -> 0 | F11: Cliente Admix. Quais benefícios? | G11: ='Folha de Rosto'!H11 -> 0 | K11: Empresa
B12: BENEFÍCIO VIDA - Situação Atual | K12: Não possui
B14: MOTIVO DO TRABALHO(Informação indispensável)
K15: Selecionar
K16: Elegibilidade Compulsória
B17: DADOS DA OPERADORA | K17: Compulsório
B18: Operadora Atual: | E18: Taxa atual: | H18: Sinistro x Prêmio | K18: Adesão
B19: Modalidade de Contratação | C19: Selecionar | E19: % de adesão sobre o grupo total: | H19: Mês de Aniversário: | K19: Encampação
B20: Contrato contributário. Qual % / Valor? | E20: Possui elegibilidade. Qual desenho? | K20: Titular Compulsório e Dependente Adesão
B22: MODELO DE CAPITAL | K22: Selecionar
B23: Modelo de Capital | C23: Selecionar | E23: Valor do Capital | H23: Limite de Capital: | K23: Pré Pagamento
K24: Pós Pagamento
B25: DESENHO DO BENEFÍCIO
B26: COBERTURAS | E26: SIM / NÃO | F26: ATUAL (%) | H26: PROPOSTO (%)
B27: Morte | E27: Selecionar
B28: Morte Acidental (IEA) | E28: Selecionar | K28: Operadora
B29: Invalidez Permanente Total por Acidente (IPA) | E29: Selecionar | K29: Selecionar
B30: Invalidez Funcional Total ou Parcial por Doença (IFPD) | E30: Selecionar | K30: Empresa
B31: Inclusão Automática de Cônjuge (IAC) | E31: Selecionar | K31: Não Possui
B32: Inclusão Automática de Filhos (IAF) | E32: Selecionar
B33: Excedente Técnico | E33: Selecionar | F33: Qual % IBNR; % DA; % DEVOLUÇÃO | H33: Qual % IBNR; % DA; % DEVOLUÇÃO | K33: Selecionar
B34: Assistência Funeral | E34: Selecionar | K34: Uniforme
B35: Cesta Básica | E35: Selecionar | K35: Multisalarial
B36: Assistência para Vítima de Crime | E36: Selecionar | K36: Escalonado
B37: Assistência Viagem 24h | E37: Selecionar
B38: Pagamento Antecipado Especial por consequência de doença profissional - PAED | E38: Selecionar | K38: Selecionar
B39: Diária de Incapacidade Temporária - DIT | E39: Selecionar | K39: Individual Limitado a R$3.000,00
B40: Despesas Médicas, Hospitalares e Odontológicas - DMH | E40: Selecionar | K40: Familiar Limitado a R$3.000,00
B41: Doenças Congênitas de Filhos | E41: Selecionar | K41: 0
B42: Rescisão Trabalhista | E42: Selecionar
B43: Possui Aposentados? | E43: Selecionar | F43: Preencher Quantidade | H43: Preencher Quantidade
B44: Possui Afastados? | E44: Selecionar | F44: Preencher Quantidade e CID's | H44: Preencher Quantidade e CID's
...

Sheet Medicamentos
B1: MEDICAMENTOS
B4: INFORMAÇÕES GERAIS PARA ESTUDO DE BENEFÍCIOS CORPORATIVOS
B6: Solicitante: | C6: ='Folha de Rosto'!C6 -> 0 | G6: Data da Solicitação: | H6: ='Folha de Rosto'!H6 -> 42989
B8: DADOS CADASTRAIS
B9: Razão Social: | C9: ='Folha de Rosto'!C9 -> 0
B10: CNPJ: | C10: ='Folha de Rosto'!C10 -> 0 | F10: Ramo de Atividade: | G10: ='Folha de Rosto'!H10 -> 0
B11: Município: | C11: ='Folha de Rosto'!C11 -> 0 | F11: Cliente Admix. Quais benefícios? | G11: ='Folha de Rosto'!H11 -> 0
B12: BENEFÍCIO MEDICAMENTOS - FARMASEG
B14: MOTIVO DO TRABALHO (Informação indispensável)
B15: FAVOR APRESENTAR PARA TODAS AS VIDAS
B17: SITUAÇÃO PROPOSTA
B18: PRODUTO | C18: Selecionar | L18: Selecionar
B19: Co-Participação | C19: Selecionar | L19: Assistência Medicamentos
L20: Plano Sênior
L21: Plano Prêmium
L26: Selecionar
L27: Com Co-Participação
L28: Sem CO-Participação
H50: 7.2-01 FM CML Solicitação de Estudos Middle e Corporate 5.0 - Medicamentos
H60: 7.2-01 Solicitação de Estudos Middle 1.0 - Medicamentos

Sheet Plan2
B2: ASSISTÊNCIA MEDICAMENTOS | C2: COM Co-Participação
B3: PLANO PLENO (Somente Crônicos) | C3: SEM Co-Participação
B4: PLANO SÊNIOR (Crônicos + Redes)
B5: PLANO MASTER (Crônicos + Redes + Reembolso)

Sheet Ocupacional
B1: BENEFÍCIO SAÚDE OCUPACIONAL
B4: INFORMAÇÕES GERAIS PARA ESTUDO DE BENEFÍCIOS CORPORATIVOS
B5: Solicitante: | F5: ='Folha de Rosto'!C6 -> 0 | U5: Data da Solicitação: | X5: ='Folha de Rosto'!H6 -> 42989
B7: DADOS CADASTRAIS
B8: Razão Social: | F8: ='Folha de Rosto'!C9 -> 0
B9: CNPJ: | F9: ='Folha de Rosto'!C10 -> 0 | N9: Ramo de Atividade: | T9: ='Folha de Rosto'!H10 -> 0
B10: Município: | F10: ='Folha de Rosto'!C11 -> 0 | N10: Cliente Admix. Quais benefícios? | T10: ='Folha de Rosto'!H11 -> 0
B12: MOTIVO DO TRABALHO(Informação indispensável)
B15: SERVIÇOS DE INTERESSE
B20: DISTRIBUIÇÃO PARA ESTUDO
B21: LOCALIDADE | I21: Nº VIDAS | K21: CNPJ | O21: ENDEREÇO | W21: OBSERVAÇÃO
B30: GESTÃO AMBULATORIAL | O30: A COTAR
B32: PRESTADOR DE SERVIÇOS ATUAL
B34: QUADRO DE PROFISSIONAIS | H34: Nº PROFISSIONAIS | K34: REGIME CONTRATAÇÃO | O34: CARGA HORÁRIA
K35: CLT | M35: PJ | O35: A | R35: B | U35: C | X35: D
B36: MÉDICOS
B37: TÉCNICOS ENFERMAGEM
B38: SITUAÇÃO PROPOSTA
B42: QUADRO DE PROFISSIONAIS | H42: Nº PROFISSIONAIS | K42: REGIME CONTRATAÇÃO | O42: CARGA HORÁRIA
K43: CLT | M43: PJ | O43: A | R43: B | U43: C | X43: D
B44: MÉDICOS
B45: TÉCNICOS ENFERMAGEM
B48: EXAMES COMPLEMENTARES
B49: DESCRIÇÃO DOS EXAMES | M49: ELEGÍVEL PARA (CARGO) | U49: CUSTO | X49: IN COMPANY
X50: S | Z50: N
B65: OBSERVAÇÕES
R76: 7.2-01 FM CML Solicitação de Estudos Middle e Corporate 5.0 - Saúde Ocupacional

Sheet Área Protegida
B1: ÁREA PROTEGIDA
B4: INFORMAÇÕES GERAIS PARA ESTUDO DE BENEFÍCIOS CORPORATIVOS
B5: Solicitante: | F5: ='Folha de Rosto'!C6 -> 0 | U5: Data da Solicitação: | X5: ='Folha de Rosto'!H6 -> 42989
B7: DADOS CADASTRAIS
B8: Razão Social: | F8: ='Folha de Rosto'!C9 -> 0
B9: CNPJ: | F9: ='Folha de Rosto'!C10 -> 0 | N9: Ramo de Atividade: | T9: ='Folha de Rosto'!H10 -> 0
B10: Município: | F10: ='Folha de Rosto'!C11 -> 0 | N10: Cliente Admix. Quais benefícios? | T10: ='Folha de Rosto'!H11 -> 0
B12: MOTIVO DO TRABALHO(Informação indispensável)
B15: DADOS PARA CONTRATAÇÃO
T16: CNPJ:
B17: Quantidade de Pessoas Fixas | L17: Quantidade de Pessoas Circulantes
B19: LOCALIDADES (s) (endereço completo)
B24: HOSPITAIS DE PREFERÊNCIA PARA DIRECIONAR OS SOCORRIDOS
B26: OBSERVAÇÕES
O39: 7.2-01 FM CML Solicitação de Estudos Middle e Corporate 5.0 - Área Protegida

Sheet VA, VR, CULTURA, NATAL, VT, AUT
B1: VALE ALIMENTAÇÃO, REFEIÇÃO, CULTURA, NATAL, TRANSPORTE, AUTO
B4: INFORMAÇÕES GERAIS PARA ESTUDO DE BENEFÍCIOS CORPORATIVOS
B5: Solicitante: | F5: ='Folha de Rosto'!C6 -> 0 | U5: Data da Solicitação: | X5: ='Folha de Rosto'!H6 -> 42989
B7: DADOS CADASTRAIS
B8: Razão Social: | F8: ='Folha de Rosto'!C9 -> 0
B9: CNPJ: | F9: ='Folha de Rosto'!C10 -> 0 | N9: Ramo de Atividade: | T9: ='Folha de Rosto'!H10 -> 0
B10: Município: | F10: ='Folha de Rosto'!C11 -> 0 | N10: Cliente Admix. Quais benefícios? | T10: ='Folha de Rosto'!H11 -> 0
B12: MOTIVO DO TRABALHO(Informação indispensável)
B14: INFORMAÇÕES ATUAIS | I14: VALE ALIMENTAÇÃO | R14: VALE REFEIÇÃO
B15: Operadora Atual
B16: Quantidade de cartões
B17: Valor do benefício por cartão
B18: Regiões
B19: Pontos de Entrega
B20: Tarifa de emissão de cartão
B21: Tarifa de 2ª via de cartão (reemissão)
B22: Tarifa de Rescisão (contrato rescindido antes dos 12 meses)
B23: Tarifa de Disponibilização por cartão
B24: Tarifa de entrega
B25: Prazo de pagto após a liberação do crédito (pré ou pós pagto?) Descrever a quantidade de dias em caso de pós pagto.
B27: INFORMAÇÕES ATUAIS | I27: VALE CULTURA | O27: VALE NATAL | U27: VALE AUTO
B28: Operadora Atual
B29: Quantidade de cartões
B30: Valor do benefício por cartão
B31: Regiões
B32: Pontos de Entrega
B33: Tarifa de emissão de cartão
B34: Tarifa de 2ª via de cartão (reemissão)
B35: Tarifa de Rescisão (contrato rescindido antes dos 12 meses)
B36: Tarifa de Disponibilização por cartão
B37: Tarifa de entrega
B38: Prazo de pagto após a liberação do crédito (pré ou pós pagto?) Descrever a quantidade de dias em caso de pós pagto.
B40: INFORMAÇÕES ATUAIS | I40: VALE TRANSPORTE
B41: Operadora Atual
B42: Quantidade de cartões
B43: Fatura mensal atual
B44: Regiões (descrever as cidades e quantidade de cartões por localidade)
B45: Pontos de Entrega
B46: Tarifa de emissão de cartão
B47: Tarifa administrativa
...
